BEGIN:VCALENDAR
VERSION:2.0
PRODID:-//wp-events-plugin.com//7.2.3//EN
BEGIN:VEVENT
UID:19@kingscareers.org
DTSTART;VALUE=DATE:20260921
DTEND;VALUE=DATE:20260926
DTSTAMP:20250829T075556Z
URL:https://www.kingscareers.org/events/week-1a-sep-21-25/
SUMMARY:Week 1A - Sep 21-25
DESCRIPTION:
CATEGORIES:Week 1A
END:VEVENT
END:VCALENDAR