BEGIN:VCALENDAR
VERSION:2.0
PRODID:-//wp-events-plugin.com//7.2.3//EN
BEGIN:VEVENT
UID:18@kingscareers.org
DTSTART;VALUE=DATE:20260907
DTEND;VALUE=DATE:20260912
DTSTAMP:20250829T075510Z
URL:https://www.kingscareers.org/events/week-1a-sep-07-11/
SUMMARY:Week 1A - Sep 07-11
DESCRIPTION:
CATEGORIES:Week 1A
END:VEVENT
END:VCALENDAR