BEGIN:VCALENDAR
VERSION:2.0
PRODID:-//wp-events-plugin.com//7.2.3//EN
BEGIN:VEVENT
UID:21@kingscareers.org
DTSTART;VALUE=DATE:20261030
DTEND;VALUE=DATE:20261105
DTSTAMP:20250829T080055Z
URL:https://www.kingscareers.org/events/week-1a-oct-19-23/
SUMMARY:Week 1A - Nov-Dec 30-04
DESCRIPTION:
CATEGORIES:Week 1A
END:VEVENT
END:VCALENDAR