BEGIN:VCALENDAR
VERSION:2.0
PRODID:-//wp-events-plugin.com//7.2.3//EN
BEGIN:VEVENT
UID:24@kingscareers.org
DTSTART;VALUE=DATE:20261116
DTEND;VALUE=DATE:20261121
DTSTAMP:20250829T080017Z
URL:https://www.kingscareers.org/events/week-1a-oct-19-23-2/
SUMMARY:Week 1A - Nov 16-20
DESCRIPTION:
CATEGORIES:Week 1A
END:VEVENT
END:VCALENDAR