BEGIN:VCALENDAR
VERSION:2.0
PRODID:-//wp-events-plugin.com//7.2.3//EN
BEGIN:VEVENT
UID:23@kingscareers.org
DTSTART;VALUE=DATE:20261005
DTEND;VALUE=DATE:20261010
DTSTAMP:20250829T075854Z
URL:https://www.kingscareers.org/events/week-1a-oct-05-09-2/
SUMMARY:Week 1A - Oct 05-09
DESCRIPTION:
CATEGORIES:Week 1A
END:VEVENT
END:VCALENDAR