BEGIN:VCALENDAR
VERSION:2.0
PRODID:-//wp-events-plugin.com//7.2.3//EN
BEGIN:VEVENT
UID:22@kingscareers.org
DTSTART;VALUE=DATE:20261102
DTEND;VALUE=DATE:20261107
DTSTAMP:20250829T075817Z
URL:https://www.kingscareers.org/events/week-1a-nov-02-06/
SUMMARY:Week 1A - Nov 02-06
DESCRIPTION:
CATEGORIES:Week 1A
END:VEVENT
END:VCALENDAR