BEGIN:VCALENDAR
VERSION:2.0
PRODID:-//wp-events-plugin.com//7.2.3//EN
BEGIN:VEVENT
UID:10@kingscareers.org
DTSTART;VALUE=DATE:20260518
DTEND;VALUE=DATE:20260523
DTSTAMP:20250829T074920Z
URL:https://www.kingscareers.org/events/week-1a-may-18-22/
SUMMARY:Week 1A - May 18-22
DESCRIPTION:
CATEGORIES:Week 1A
END:VEVENT
END:VCALENDAR