BEGIN:VCALENDAR
VERSION:2.0
PRODID:-//wp-events-plugin.com//7.2.3//EN
BEGIN:VEVENT
UID:6@kingscareers.org
DTSTART;VALUE=DATE:20260323
DTEND;VALUE=DATE:20260328
DTSTAMP:20250829T074619Z
URL:https://www.kingscareers.org/events/week-1a-mar-23-27/
SUMMARY:Week 1A - Mar 23-27
DESCRIPTION:
CATEGORIES:Week 1A
END:VEVENT
END:VCALENDAR