BEGIN:VCALENDAR
VERSION:2.0
PRODID:-//wp-events-plugin.com//7.2.3//EN
BEGIN:VEVENT
UID:5@kingscareers.org
DTSTART;VALUE=DATE:20260309
DTEND;VALUE=DATE:20260314
DTSTAMP:20250829T074530Z
URL:https://www.kingscareers.org/events/week-1a-mar-09-13/
SUMMARY:Week 1A - Mar 09-13
DESCRIPTION:
CATEGORIES:Week 1A
END:VEVENT
END:VCALENDAR