BEGIN:VCALENDAR
VERSION:2.0
PRODID:-//wp-events-plugin.com//7.2.3//EN
BEGIN:VEVENT
UID:13@kingscareers.org
DTSTART;VALUE=DATE:20260629
DTEND;VALUE=DATE:20260704
DTSTAMP:20250829T075132Z
URL:https://www.kingscareers.org/events/week-1a-jun-jul-29-03/
SUMMARY:Week 1A - Jun-Jul 29-03
DESCRIPTION:
CATEGORIES:Week 1A
END:VEVENT
END:VCALENDAR