BEGIN:VCALENDAR
VERSION:2.0
PRODID:-//wp-events-plugin.com//7.2.3//EN
BEGIN:VEVENT
UID:15@kingscareers.org
DTSTART;VALUE=DATE:20260727
DTEND;VALUE=DATE:20260801
DTSTAMP:20250829T075251Z
URL:https://www.kingscareers.org/events/week-1a-jul-27-31/
SUMMARY:Week 1A - Jul 27-31
DESCRIPTION:
CATEGORIES:Week 1A
END:VEVENT
END:VCALENDAR