BEGIN:VCALENDAR
VERSION:2.0
PRODID:-//wp-events-plugin.com//7.2.3//EN
BEGIN:VEVENT
UID:14@kingscareers.org
DTSTART;VALUE=DATE:20260713
DTEND;VALUE=DATE:20260718
DTSTAMP:20250829T075218Z
URL:https://www.kingscareers.org/events/week-1a-jul-13-17/
SUMMARY:Week 1A - Jul 13-17
DESCRIPTION:
CATEGORIES:Week 1A
END:VEVENT
END:VCALENDAR