BEGIN:VCALENDAR
VERSION:2.0
PRODID:-//wp-events-plugin.com//7.2.3//EN
BEGIN:VEVENT
UID:1@kingscareers.org
DTSTART;VALUE=DATE:20260112
DTEND;VALUE=DATE:20260117
DTSTAMP:20250829T065214Z
URL:https://www.kingscareers.org/events/week-1a-jan/
SUMMARY:Week 1A - Jan 12-16
DESCRIPTION:
CATEGORIES:Week 1A
END:VEVENT
END:VCALENDAR