BEGIN:VCALENDAR
VERSION:2.0
PRODID:-//wp-events-plugin.com//7.2.3//EN
BEGIN:VEVENT
UID:2@kingscareers.org
DTSTART;VALUE=DATE:20260126
DTEND;VALUE=DATE:20260131
DTSTAMP:20250829T070124Z
URL:https://www.kingscareers.org/events/week-1a-jan-26-30/
SUMMARY:Week 1A - Jan 26-30
DESCRIPTION:
CATEGORIES:Week 1A
END:VEVENT
END:VCALENDAR