BEGIN:VCALENDAR
VERSION:2.0
PRODID:-//wp-events-plugin.com//7.2.3//EN
BEGIN:VEVENT
UID:25@kingscareers.org
DTSTART;VALUE=DATE:20261214
DTEND;VALUE=DATE:20261219
DTSTAMP:20250829T080129Z
URL:https://www.kingscareers.org/events/week-1a-dec-14-18/
SUMMARY:Week 1A - Dec 14-18
DESCRIPTION:
CATEGORIES:Week 1A
END:VEVENT
END:VCALENDAR