BEGIN:VCALENDAR
VERSION:2.0
PRODID:-//wp-events-plugin.com//7.2.3//EN
BEGIN:VEVENT
UID:17@kingscareers.org
DTSTART;VALUE=DATE:20260824
DTEND;VALUE=DATE:20260829
DTSTAMP:20250829T075429Z
URL:https://www.kingscareers.org/events/week-1a-aug-24-28/
SUMMARY:Week 1A - Aug 24-28
DESCRIPTION:
CATEGORIES:Week 1A
END:VEVENT
END:VCALENDAR