BEGIN:VCALENDAR
VERSION:2.0
PRODID:-//wp-events-plugin.com//7.2.3//EN
BEGIN:VEVENT
UID:16@kingscareers.org
DTSTART;VALUE=DATE:20260810
DTEND;VALUE=DATE:20260815
DTSTAMP:20250829T075357Z
URL:https://www.kingscareers.org/events/week-1a-aug-10-14/
SUMMARY:Week 1A - Aug 10-14
DESCRIPTION:
CATEGORIES:Week 1A
END:VEVENT
END:VCALENDAR