BEGIN:VCALENDAR
VERSION:2.0
PRODID:-//wp-events-plugin.com//7.2.3//EN
BEGIN:VEVENT
UID:8@kingscareers.org
DTSTART;VALUE=DATE:20260420
DTEND;VALUE=DATE:20260425
DTSTAMP:20250829T074732Z
URL:https://www.kingscareers.org/events/week-1a-apr-20-24/
SUMMARY:Week 1A - Apr 20-24
DESCRIPTION:
CATEGORIES:Week 1A
END:VEVENT
END:VCALENDAR