BEGIN:VCALENDAR
VERSION:2.0
PRODID:-//wp-events-plugin.com//7.2.3//EN
BEGIN:VEVENT
UID:7@kingscareers.org
DTSTART;VALUE=DATE:20260406
DTEND;VALUE=DATE:20260411
DTSTAMP:20250829T074701Z
URL:https://www.kingscareers.org/events/week-1a-apr-06-10/
SUMMARY:Week 1A - Apr 06-10
DESCRIPTION:
CATEGORIES:Week 1A
END:VEVENT
END:VCALENDAR